BEGIN:VCALENDAR
VERSION:2.0
PRODID:-//wp-events-plugin.com//7.2.3.1//EN
TZID:America/Denver
X-WR-TIMEZONE:America/Denver
BEGIN:VEVENT
UID:616@wellington.colibraries.org
DTSTART;TZID=America/Denver:20240518T130000
DTEND;TZID=America/Denver:20240518T150000
DTSTAMP:20240501T173246Z
URL:https://wellington.colibraries.org/events/teen-art-journaling-class/
SUMMARY:Teen Art Journaling Class
DESCRIPTION:Join us for a mixed-media journaling class for teens!\nEach ses
 sion will incorporate a prompt to explore through art and writing.\nWHO: T
 eens 12-17\nWHERE: Leeper Room @ WPL\nWHEN: Saturday\, May 18th 1-3\nThe c
 lass is free and space is limited. Bring your own journal or purchase one 
 from the library for $2. Other supplies provided!\nPlease register below o
 r call 970-568-3040.
CATEGORIES:Art,Teen
END:VEVENT
BEGIN:VTIMEZONE
TZID:America/Denver
X-LIC-LOCATION:America/Denver
BEGIN:DAYLIGHT
DTSTART:20240310T030000
TZOFFSETFROM:-0700
TZOFFSETTO:-0600
TZNAME:MDT
END:DAYLIGHT
END:VTIMEZONE
END:VCALENDAR