BEGIN:VCALENDAR
VERSION:2.0
PRODID:-//wp-events-plugin.com//7.2.3.1//EN
TZID:America/Denver
X-WR-TIMEZONE:America/Denver
BEGIN:VEVENT
UID:174@wellington.colibraries.org
DTSTART;TZID=America/Denver:20211203T180000
DTEND;TZID=America/Denver:20211203T190000
DTSTAMP:20211110T030724Z
URL:https://wellington.colibraries.org/events/holiday-tree-lighting/
SUMMARY:Holiday Tree Lighting
DESCRIPTION:Come see Santa\, learn about holiday traditions around the worl
 d\, and join us for a wonderful tree lighting at Wellington Public Library
 !
END:VEVENT
BEGIN:VTIMEZONE
TZID:America/Denver
X-LIC-LOCATION:America/Denver
BEGIN:STANDARD
DTSTART:20211107T010000
TZOFFSETFROM:-0600
TZOFFSETTO:-0700
TZNAME:MST
END:STANDARD
END:VTIMEZONE
END:VCALENDAR